BEGIN:VCALENDAR
VERSION:2.0
PRODID:-//wp-events-plugin.com//7.2.3.1//EN
TZID:America/New_York
X-WR-TIMEZONE:America/New_York
BEGIN:VEVENT
UID:576@tikkunvor.org
DTSTART;TZID=America/New_York:20260221T103000
DTEND;TZID=America/New_York:20260221T120000
DTSTAMP:20260204T200837Z
URL:https://www.tikkunvor.org/events/torah-study-11/
SUMMARY:Torah Study
DESCRIPTION:All are welcome to join Rabbi Lenore Bohm for Torah study.\nThe
  portion Terumah focuses on the Israelites building the Tabernacle in the 
 desert.  We'll discuss what contributes to making a "holy space\," and wh
 at are different kinds of generosity.  Since this parsha includes an invi
 tation to give\, please bring non-perishable goods to donate to the Blue C
 abinet collection bin in the entryway to TvO.\n\nNo experience necessary!
END:VEVENT
BEGIN:VTIMEZONE
TZID:America/New_York
X-LIC-LOCATION:America/New_York
BEGIN:STANDARD
DTSTART:20251102T010000
TZOFFSETFROM:-0400
TZOFFSETTO:-0500
TZNAME:EST
END:STANDARD
END:VTIMEZONE
END:VCALENDAR