BEGIN:VCALENDAR
VERSION:2.0
PRODID:-//wp-events-plugin.com//7.2.3.1//EN
TZID:America/New_York
X-WR-TIMEZONE:America/New_York
BEGIN:VEVENT
UID:710@tikkunvor.org
DTSTART;TZID=America/New_York:20260523T100000
DTEND;TZID=America/New_York:20260523T120000
DTSTAMP:20260407T210104Z
URL:https://www.tikkunvor.org/events/shabbat-morning-3/
SUMMARY:Shavuot / Shabbat Morning
DESCRIPTION:Join for Shabbat morning and Shavuot with Marnie Kamp (aka Dr O
 'Shea)\, as she is called to the Torah as an adult choosing to become bat 
 mitzvah!\n\nThe service will be led with Michael Margolin and Richard Rose
 nfield.\n\nIf you can't join in person\, please stream the service on Zoom
 :\n\nhttps://tikkunvor-org.zoom.us/j/86190069680?pwd=hlYLbdUIMjWE4xQLrJDWc
 TRm612b5o.1\n\nMeeting ID: 861 9006 9680\nPasscode: mazeltov
END:VEVENT
BEGIN:VTIMEZONE
TZID:America/New_York
X-LIC-LOCATION:America/New_York
BEGIN:DAYLIGHT
DTSTART:20260308T030000
TZOFFSETFROM:-0500
TZOFFSETTO:-0400
TZNAME:EDT
END:DAYLIGHT
END:VTIMEZONE
END:VCALENDAR