BEGIN:VCALENDAR
VERSION:2.0
PRODID:-//wp-events-plugin.com//7.2.3.1//EN
TZID:America/New_York
X-WR-TIMEZONE:America/New_York
BEGIN:VEVENT
UID:454@tikkunvor.org
DTSTART;TZID=America/New_York:20260125T090000
DTEND;TZID=America/New_York:20260125T120000
DTSTAMP:20260123T202028Z
URL:https://www.tikkunvor.org/events/jewish-learning-experiences-jle-2026-
 01-25/
SUMMARY:JLE cancelled due to storm
DESCRIPTION:Classes are cancelled for January 25 due the the snow storm for
 ecast. Stay warm and safe!
END:VEVENT
BEGIN:VTIMEZONE
TZID:America/New_York
X-LIC-LOCATION:America/New_York
BEGIN:STANDARD
DTSTART:20251102T010000
TZOFFSETFROM:-0400
TZOFFSETTO:-0500
TZNAME:EST
END:STANDARD
END:VTIMEZONE
END:VCALENDAR