BEGIN:VCALENDAR
VERSION:2.0
PRODID:-//wp-events-plugin.com//7.2.3.1//EN
TZID:America/New_York
X-WR-TIMEZONE:America/New_York
BEGIN:VEVENT
UID:452@tikkunvor.org
DTSTART;TZID=America/New_York:20260111T090000
DTEND;TZID=America/New_York:20260111T120000
DTSTAMP:20260105T134443Z
URL:https://www.tikkunvor.org/events/jewish-learning-experiences-jle-2026-
 01-11/
SUMMARY:Jewish Learning Experiences (JLE)
DESCRIPTION:For registered students in bet-zayin (grades 2-7)\n\nJLE Parent
 s: Please note special location instructions for January 11!
END:VEVENT
BEGIN:VTIMEZONE
TZID:America/New_York
X-LIC-LOCATION:America/New_York
BEGIN:STANDARD
DTSTART:20251102T010000
TZOFFSETFROM:-0400
TZOFFSETTO:-0500
TZNAME:EST
END:STANDARD
END:VTIMEZONE
END:VCALENDAR