BEGIN:VCALENDAR
VERSION:2.0
PRODID:-//wp-events-plugin.com//7.2.3.1//EN
TZID:America/New_York
X-WR-TIMEZONE:America/New_York
BEGIN:VEVENT
UID:215@tikkunvor.org
DTSTART;TZID=America/New_York:20250105T090000
DTEND;TZID=America/New_York:20250105T120000
DTSTAMP:20240923T205704Z
URL:https://www.tikkunvor.org/events/jewish-learning-experiences-2-2025-01
 -05/
SUMMARY:Jewish Learning Experiences
DESCRIPTION:For registered students in grades 2-7.
END:VEVENT
BEGIN:VTIMEZONE
TZID:America/New_York
X-LIC-LOCATION:America/New_York
BEGIN:STANDARD
DTSTART:20241103T010000
TZOFFSETFROM:-0400
TZOFFSETTO:-0500
TZNAME:EST
END:STANDARD
END:VTIMEZONE
END:VCALENDAR