BEGIN:VCALENDAR
VERSION:2.0
PRODID:-//wp-events-plugin.com//7.2.3.1//EN
TZID:America/New_York
X-WR-TIMEZONE:America/New_York
BEGIN:VEVENT
UID:522@tikkunvor.org
DTSTART;TZID=America/New_York:20260124T173000
DTEND;TZID=America/New_York:20260124T190000
DTSTAMP:20250818T182554Z
URL:https://www.tikkunvor.org/events/havdalah-with-bet-gimel/
SUMMARY:Havdalah with Bet/Gimel
DESCRIPTION:Join Rabbi Tziona Szajman and the students of Bet/Gimel (2nd an
 d 3rd grade):\n\n5:30 dish-to-pass Seudah Shlishi (last meal of Shabbat)\n
 \n6 pm Havdalah and singing 
END:VEVENT
BEGIN:VTIMEZONE
TZID:America/New_York
X-LIC-LOCATION:America/New_York
BEGIN:STANDARD
DTSTART:20251102T010000
TZOFFSETFROM:-0400
TZOFFSETTO:-0500
TZNAME:EST
END:STANDARD
END:VTIMEZONE
END:VCALENDAR