BEGIN:VCALENDAR
VERSION:2.0
PRODID:-//wp-events-plugin.com//7.2.3.1//EN
TZID:America/New_York
X-WR-TIMEZONE:America/New_York
BEGIN:VEVENT
UID:491@tikkunvor.org
DTSTART;TZID=America/New_York:20260117T100000
DTEND;TZID=America/New_York:20260117T113000
DTSTAMP:20250818T180029Z
URL:https://www.tikkunvor.org/events/family-jewish-learning-experiences-5/
SUMMARY:Family Jewish Learning Experiences
DESCRIPTION:Family Jewish Learning Experiences:\n\nShabbat morning learning
  and play\, for registered students in grades K/1 with a caregiver.\n\nCon
 tact info@tikkunvor.org for more information.
END:VEVENT
BEGIN:VTIMEZONE
TZID:America/New_York
X-LIC-LOCATION:America/New_York
BEGIN:STANDARD
DTSTART:20251102T010000
TZOFFSETFROM:-0400
TZOFFSETTO:-0500
TZNAME:EST
END:STANDARD
END:VTIMEZONE
END:VCALENDAR